BEGIN:VCALENDAR
VERSION:2.0
PRODID:-//Pour Decisions//Rutherglen 2026//EN
CALSCALE:GREGORIAN
METHOD:PUBLISH
BEGIN:VEVENT
UID:roam-rutherglen-2026-weekend@pour-decisions-rutherglen26.pages.dev
DTSTAMP:20260420T000000Z
DTSTART;VALUE=DATE:20260605
DTEND;VALUE=DATE:20260609
SUMMARY:Roam Rutherglen 2026 (King's Birthday weekend)
LOCATION:Rutherglen, Victoria, Australia
DESCRIPTION:Long weekend in Rutherglen. Festival day is Saturday 6 June. Plan + voting: https://pour-decisions-rutherglen26.pages.dev
URL:https://pour-decisions-rutherglen26.pages.dev
END:VEVENT
END:VCALENDAR
